BEGIN:VCALENDAR
VERSION:2.0
PRODID:-//SFPIRG - ECPv6.15.20//NONSGML v1.0//EN
CALSCALE:GREGORIAN
METHOD:PUBLISH
X-WR-CALNAME:SFPIRG
X-ORIGINAL-URL:https://sfpirg.ca
X-WR-CALDESC:Events for SFPIRG
REFRESH-INTERVAL;VALUE=DURATION:PT1H
X-Robots-Tag:noindex
X-PUBLISHED-TTL:PT1H
BEGIN:VTIMEZONE
TZID:America/Vancouver
BEGIN:DAYLIGHT
TZOFFSETFROM:-0800
TZOFFSETTO:-0700
TZNAME:PDT
DTSTART:20210314T100000
END:DAYLIGHT
BEGIN:STANDARD
TZOFFSETFROM:-0700
TZOFFSETTO:-0800
TZNAME:PST
DTSTART:20211107T090000
END:STANDARD
BEGIN:DAYLIGHT
TZOFFSETFROM:-0800
TZOFFSETTO:-0700
TZNAME:PDT
DTSTART:20220313T100000
END:DAYLIGHT
BEGIN:STANDARD
TZOFFSETFROM:-0700
TZOFFSETTO:-0800
TZNAME:PST
DTSTART:20221106T090000
END:STANDARD
BEGIN:DAYLIGHT
TZOFFSETFROM:-0800
TZOFFSETTO:-0700
TZNAME:PDT
DTSTART:20230312T100000
END:DAYLIGHT
BEGIN:STANDARD
TZOFFSETFROM:-0700
TZOFFSETTO:-0800
TZNAME:PST
DTSTART:20231105T090000
END:STANDARD
END:VTIMEZONE
BEGIN:VEVENT
DTSTART;TZID=America/Vancouver:20220119T143000
DTEND;TZID=America/Vancouver:20220119T160000
DTSTAMP:20260422T082815
CREATED:20220106T192928Z
LAST-MODIFIED:20220106T194110Z
UID:2865-1642602600-1642608000@sfpirg.ca
SUMMARY:Social Justice Office Hours
DESCRIPTION:Attention all SFU undergrad and grad students! SFPIRG is here to support you! \nAre you dealing with racism\, sexism\, or other oppressive/problematic content in the course of your work\, organising\, or studies? Are you looking for support with how to respond to instances of oppressive/problematic content in your coursework\, or from your fellow students? Are you looking for community with folks who also care about social justice? You’re not alone! \nJoin SFPIRG for our 2022 Social Justice Office Hours series for SFU undergrad and grad students! \nSocial Justice Office Hours will take place on Wednesdays from 2:30 to 4pm\, starting on January 19th\, 2022. The last session will be on April 6th. **PLEASE NOTE\, there will be NO session on February 23rd\, as it is Reading Week.** \nDrop into any of the sessions to get support with: \n\nHow to respond to problematic things that come up in the course of your work\, or from your fellow students\nHow to apply equity / intersectionality / anti-oppression in the context of your research / studies / work\nProcessing how you’re doing\, handling what’s happening for you\nTracking down other resources\, supports\, etc.\n\nPlease note that these are group support sessions\, and so conversations may take place of a sensitive or challenging nature. In order to support a safer environment for all\, we ask participants to be respectful\, considerate\, and compassionate throughout all sessions. Participants who are harassing\, discriminating against\, or deliberately harming others will be removed from the room. \nWe look forward to connecting with you! \nHow to attend: \n\nRSVP using this form at least 1-hour prior to any Social Justice Office Hours session. Please register using the full name and email you will be signing into the Google Meet session with.\n\nPlease note: if you register less than 1-hour prior to a session\, we cannot guarantee that you will receive the event link for that session.\n\n\nParticipants will be added to the event series within the 1-hour prior to each session. If you do not receive an invitation\, please be sure to check your spam folder.\n\nYou will receive a Google Calendar invitation\, with a Google Meet link included. This link will work for all Social Justice Office Hours sessions!\nYou will be added to the Google Calendar event series\, and will be registered for the full Social Justice Office Hours series of events – drop into any session! You only need to RSVP once.\n\n\nQuestions? You can reach us at education@sfpirg.ca for more information\n\nFull List of Dates: \n\nJanuary 19\nJanuary 26th\nFebruary 2nd\nFebruary 9th\nFebruary 16th\nNO SESSION February 23rd\nMarch 2nd\nMarch 9th\nMarch 16th\nMarch 23rd\nMarch 30th\nApril 6th
URL:https://sfpirg.ca/event/social-justice-office-hours-2/
LOCATION:8888 University Drive\, Burnaby\, BC\, V5A 1S6\, Canada
CATEGORIES:SFPIRG Event
ATTACH;FMTTYPE=image/png:https://sfpirg.ca/wp-content/uploads/2022/01/social-justice-office-hours.png
ORGANIZER;CN="SFPIRG":MAILTO:info@sfpirg.ca
END:VEVENT
BEGIN:VEVENT
DTSTART;VALUE=DATE:20220121
DTEND;VALUE=DATE:20220122
DTSTAMP:20260422T082815
CREATED:20220104T192558Z
LAST-MODIFIED:20220104T192558Z
UID:2851-1642723200-1642809599@sfpirg.ca
SUMMARY:Application Deadline for Electoral Officer
DESCRIPTION:The Simon Fraser Public Interest Research Group (SFPIRG) is looking for an Independent Electoral Officer who will be responsible for overseeing the nomination and electoral process for our Board of Directors from February to late March. \n\nThe position involves 1- 5 hours a week of work in February and March\, with more work during the election period (if required) in March.\nAn honorarium of $200 will be given for the nominations period\, and in the case of elections\, another $300 will be given. \n\nApplication Deadline & Procedure\nApplication deadline is Friday\, January 21\, 2022 at 10am \nIf you are interested\, please send your name\, contact information\, why you are interested in the position and why you would make a good Electoral Officer to admin@sfpirg.ca.   \nQualifications: \n\nLeadership skills \nCommunication skills\, able to convey information clearly both orally and in writing\nIntegrity and ability to respect process and confidentiality \nHighly organized\, able to work independently \nCommitment to social and environmental justice\n\nCompensation\nThe electoral officer shall receive an honorarium of $200 for work performed during the nomination period\, and an additional $300 honorarium for electoral duties should elections be held. \nElectoral Officer Job Description\nThe Electoral Officer is responsible for overseeing SFPIRG’s nomination and electoral process for its Board of Directors from February to March 2022. The position involves 1- 5 hours a week of work in February and March\, with more work during the election period (if required*) in March. The Electoral Officer shall be accountable to the Board\, but shall have authority to conduct the election. \n* Elections will only be held if there are more candidates than available positions. There are a maximum of nine seats available on the Board of Directors according to SFPIRG’s bylaws. \nNominations Period Duties:  \n\nPut out the call for nominations \nProvide notice for deadlines \nReview nominations to ensure the eligibility of candidates \nRespond to nominees’ inquiries on the nomination and electoral process\nOrganize and run a nominees’ info session \nOrganize and run a candidates’ meeting \n\nElection Period Duties: \n\nInstruct candidates on the election process\nArrange for the production of a collective candidate poster\nPromote the election on campus \nApprove campaign material \nEnforce the regulations regarding appropriate campaigning/campaign material \nProduce ballots \nOversee the voting during the election \nCount the votes \nRelease of the election results \nOther election duties\, as required
URL:https://sfpirg.ca/event/application-deadline-for-electoral-officer/
LOCATION:8888 University Drive\, Burnaby\, BC\, V5A 1S6\, Canada
CATEGORIES:SFPIRG Event
ATTACH;FMTTYPE=image/png:https://sfpirg.ca/wp-content/uploads/2022/01/Copy-of-SFPIRG-IS-HIRING.png
ORGANIZER;CN="SFPIRG":MAILTO:info@sfpirg.ca
END:VEVENT
BEGIN:VEVENT
DTSTART;VALUE=DATE:20220124
DTEND;VALUE=DATE:20220129
DTSTAMP:20260422T082815
CREATED:20220104T193320Z
LAST-MODIFIED:20220106T233530Z
UID:2853-1642982400-1643414399@sfpirg.ca
SUMMARY:Fee Refund Week - Spring 2022 Semester
DESCRIPTION:SFPIRG is a student-funded non-profit organization\, autonomous from the University\, Simon Fraser Student Society\, and the Graduate Student Society. Each semester we receive $3.00 from full-time undergraduate students and $1.50 from part-time undergraduate students. A successful graduate student referendum in Spring 2020 increased grad student membership fees and tied them to local inflation rates. As of Fall 2021 we receive $5.61 from full-time graduate students and $2.81 from part-time graduate students. After paying their student fees\, all students are members of SFPIRG and can use the resources available through our centre. Non-students can also become associate members of SFPIRG and get involved with us. \nWhat do we do with fees we collect? We offer many great services such as equity support on research\, homework\, and for TAs and TMs to improve their classroom environments as well as trainings for the campus community throughout the year. We offer funding for student activities and projects such as through the Usamah Ansari Creative Justice Award. We also offer resources such as projectors\, art materials\, and rally supplies for student events and activities. Our equity library also offers many resources on marginalised research topics such as disability justice\, abolition\, and the steps and skills it takes to transform the world. \nWe realize that not everyone shares SFPIRG’s values\, so each semester we offer students the ability to revoke their membership. If you would like to opt-out\, please see the COVID-19 update below. Once you opt-out\, you are no longer a member of SFPIRG and will not be eligible to use the organization’s resources and services. \n*COVID-19 Update* Due to the COVID-19 pandemic\, fee refunds will be administered differently for the Spring 2022 semester. To receive more information about opting out of your SFPIRG membership for the Spring 2022 semester\, please send an email to admin@sfpirg.ca.  \nOpting out of PIRG membership and fee refunds can be requested between 10am on January 24 and 5pm on January 28. \n 
URL:https://sfpirg.ca/event/fee-refund-week-spring-2022-semester/
LOCATION:8888 University Drive\, Burnaby\, BC\, V5A 1S6\, Canada
ORGANIZER;CN="SFPIRG":MAILTO:info@sfpirg.ca
END:VEVENT
END:VCALENDAR