BEGIN:VCALENDAR
VERSION:2.0
PRODID:-//SFPIRG - ECPv6.15.20//NONSGML v1.0//EN
CALSCALE:GREGORIAN
METHOD:PUBLISH
X-WR-CALNAME:SFPIRG
X-ORIGINAL-URL:https://sfpirg.ca
X-WR-CALDESC:Events for SFPIRG
REFRESH-INTERVAL;VALUE=DURATION:PT1H
X-Robots-Tag:noindex
X-PUBLISHED-TTL:PT1H
BEGIN:VTIMEZONE
TZID:America/Vancouver
BEGIN:DAYLIGHT
TZOFFSETFROM:-0800
TZOFFSETTO:-0700
TZNAME:PDT
DTSTART:20190310T100000
END:DAYLIGHT
BEGIN:STANDARD
TZOFFSETFROM:-0700
TZOFFSETTO:-0800
TZNAME:PST
DTSTART:20191103T090000
END:STANDARD
BEGIN:DAYLIGHT
TZOFFSETFROM:-0800
TZOFFSETTO:-0700
TZNAME:PDT
DTSTART:20200308T100000
END:DAYLIGHT
BEGIN:STANDARD
TZOFFSETFROM:-0700
TZOFFSETTO:-0800
TZNAME:PST
DTSTART:20201101T090000
END:STANDARD
BEGIN:DAYLIGHT
TZOFFSETFROM:-0800
TZOFFSETTO:-0700
TZNAME:PDT
DTSTART:20210314T100000
END:DAYLIGHT
BEGIN:STANDARD
TZOFFSETFROM:-0700
TZOFFSETTO:-0800
TZNAME:PST
DTSTART:20211107T090000
END:STANDARD
END:VTIMEZONE
BEGIN:VEVENT
DTSTART;TZID=America/Vancouver:20200908T130000
DTEND;TZID=America/Vancouver:20200908T150000
DTSTAMP:20260424T061418
CREATED:20200821T174721Z
LAST-MODIFIED:20201006T152359Z
UID:2073-1599570000-1599577200@sfpirg.ca
SUMMARY:Equity Support Group - for TAs and TMs
DESCRIPTION:Attention all SFU TAs\, TMs\, RAs\, grad facilitators\, and sessional instructors! SFPIRG is here to support you! \nAre you dealing with racism\, sexism\, or other oppressive/problematic content in the course of your work? Are you looking for support with how to respond to instances of oppressive/problematic content in students’ work\, or from your colleagues? Are you looking for community with folks who also care about social justice? You’re not alone! \nJoin SFPIRG for our Fall 2020 Equity Support Group series – exclusively for SFU TAs\, TMs\, RAs\, grad facilitators\, and sessional instructors! The Equity Support Group takes place biweekly on Tuesdays from 1-3pm\, starting on September 8th\, 2020. The last session will be on December 1st. The full list of dates is below. \nDrop into any of the sessions to get support with: \n\nHow to respond to problematic things that come up in students’ work or from your colleagues\nHow to apply equity / intersectionality / anti-oppression in the context of your research / studies / work\nProcessing how you’re doing\, handling what’s happening for you\nTracking down other resources\, supports\, etc.\n\nPlease note that these are group support sessions\, and so conversations may take place of a sensitive or challenging nature. In order to support a safer environment for all\, we ask participants to be respectful\, considerate\, and compassionate throughout all sessions. Participants who are harassing\, discriminating against\, or deliberately harming others will be removed from the room. \nWe look forward to connecting with you this Fall! \nHow to attend:\n\nRSVP using the form below at least 1-hour prior to any Equity Support Group session. Please register using the full name and email you will be signing into the Google Meet session with\, putting this information into the “Send RSVP confirmation to” fields.\n\nPlease note: if you register less than 1-hour prior to a session\, we cannot guarantee that you will receive the event link for that session.\n\n\nParticipants will be added to the event series within the 1-hour prior to each session. If you do not receive an invitation\, please be sure to check your spam folder.\n\nYou will receive a Google Calendar invitation\, with a Google Meet link included. This link will work for all Equity Support Group sessions!\nYou will be added to the Google Calendar event series\, and will be registered for the full Equity Support Group series of events – drop into any session! You only need to RSVP once.\n\n\nQuestions? You can reach us at education@sfpirg.ca for more information!\n\nFull List of Equity Support Group Dates:\n\nSeptember 8\nSeptember 22\nOctober 6\nOctober 20\nNovember 3\nNovember 17\nDecember 1
URL:https://sfpirg.ca/event/equity-support-group-for-tas-and-tms/
LOCATION:Online
CATEGORIES:SFPIRG Event
ATTACH;FMTTYPE=image/jpeg:https://sfpirg.ca/wp-content/uploads/2020/08/Equity-Support-Group-IG-e1598033718590.jpg
ORGANIZER;CN="SFPIRG":MAILTO:info@sfpirg.ca
END:VEVENT
BEGIN:VEVENT
DTSTART;TZID=America/Vancouver:20200915T130000
DTEND;TZID=America/Vancouver:20200915T150000
DTSTAMP:20260424T061418
CREATED:20200821T175225Z
LAST-MODIFIED:20210107T015636Z
UID:2076-1600174800-1600182000@sfpirg.ca
SUMMARY:Social Justice Homework Club - for Undergrad and Grad Students
DESCRIPTION:Attention all SFU undergrad and grad students! SFPIRG is here to support you! \nAre you dealing with racism\, sexism\, or other oppressive/problematic content in the course of your work and studies? Are you looking for support with how to respond to instances of oppressive/problematic content in your coursework\, or from your fellow students? Are you looking for community with folks who also care about social justice? You’re not alone! \nJoin SFPIRG for our Fall 2020 Social Justice Homework Club series – exclusively for SFU undergrad and grad students! The Social Justice Homework Club takes place biweekly on Tuesdays from 1-3pm\, starting on September 15th\, 2020. The last session will be on November 24th. \nDrop into any of the sessions to get support with: \n\nHow to respond to problematic things that come up in the course of your work\, or from your fellow students\nHow to apply equity / intersectionality / anti-oppression in the context of your research / studies / work\nProcessing how you’re doing\, handling what’s happening for you\nTracking down other resources\, supports\, etc.\n\nPlease note that these are group support sessions\, and so conversations may take place of a sensitive or challenging nature. In order to support a safer environment for all\, we ask participants to be respectful\, considerate\, and compassionate throughout all sessions. Participants who are harassing\, discriminating against\, or deliberately harming others will be removed from the room. \nWe look forward to connecting with you this Fall! \nHow to attend:\n\nRSVP using the form below at least 1-hour prior to any Social Justice Homework Club session. Please register using the full name and email you will be signing into the Google Meet session with\, putting this information into the “Send RSVP confirmation to” fields.\n\nPlease note: if you register less than 1-hour prior to a session\, we cannot guarantee that you will receive the event link for that session.\n\n\nParticipants will be added to the event series within the 1-hour prior to each session. If you do not receive an invitation\, please be sure to check your spam folder.\n\nYou will receive a Google Calendar invitation\, with a Google Meet link included. This link will work for all Social Justice Homework Club sessions!\nYou will be added to the Google Calendar event series\, and will be registered for the full Social Justice Homework Club series of events – drop into any session! You only need to RSVP once.\n\n\nQuestions? You can reach us at education@sfpirg.ca for more information!\n\nFull List of Dates:\n\nSeptember 15\nSeptember 29\nOctober 13\nOctober 27\nNovember 10\nNovember 24
URL:https://sfpirg.ca/event/social-justice-homework-club-fall2020/
LOCATION:Online
CATEGORIES:SFPIRG Event
ATTACH;FMTTYPE=image/jpeg:https://sfpirg.ca/wp-content/uploads/2020/08/Social-Justice-Homework-Club-IG-e1598033738608.jpg
ORGANIZER;CN="SFPIRG":MAILTO:info@sfpirg.ca
END:VEVENT
BEGIN:VEVENT
DTSTART;TZID=America/Vancouver:20200922T130000
DTEND;TZID=America/Vancouver:20200922T150000
DTSTAMP:20260424T061418
CREATED:20200821T174721Z
LAST-MODIFIED:20201006T152359Z
UID:2079-1600779600-1600786800@sfpirg.ca
SUMMARY:Equity Support Group - for TAs and TMs
DESCRIPTION:Attention all SFU TAs\, TMs\, RAs\, grad facilitators\, and sessional instructors! SFPIRG is here to support you! \nAre you dealing with racism\, sexism\, or other oppressive/problematic content in the course of your work? Are you looking for support with how to respond to instances of oppressive/problematic content in students’ work\, or from your colleagues? Are you looking for community with folks who also care about social justice? You’re not alone! \nJoin SFPIRG for our Fall 2020 Equity Support Group series – exclusively for SFU TAs\, TMs\, RAs\, grad facilitators\, and sessional instructors! The Equity Support Group takes place biweekly on Tuesdays from 1-3pm\, starting on September 8th\, 2020. The last session will be on December 1st. The full list of dates is below. \nDrop into any of the sessions to get support with: \n\nHow to respond to problematic things that come up in students’ work or from your colleagues\nHow to apply equity / intersectionality / anti-oppression in the context of your research / studies / work\nProcessing how you’re doing\, handling what’s happening for you\nTracking down other resources\, supports\, etc.\n\nPlease note that these are group support sessions\, and so conversations may take place of a sensitive or challenging nature. In order to support a safer environment for all\, we ask participants to be respectful\, considerate\, and compassionate throughout all sessions. Participants who are harassing\, discriminating against\, or deliberately harming others will be removed from the room. \nWe look forward to connecting with you this Fall! \nHow to attend:\n\nRSVP using the form below at least 1-hour prior to any Equity Support Group session. Please register using the full name and email you will be signing into the Google Meet session with\, putting this information into the “Send RSVP confirmation to” fields.\n\nPlease note: if you register less than 1-hour prior to a session\, we cannot guarantee that you will receive the event link for that session.\n\n\nParticipants will be added to the event series within the 1-hour prior to each session. If you do not receive an invitation\, please be sure to check your spam folder.\n\nYou will receive a Google Calendar invitation\, with a Google Meet link included. This link will work for all Equity Support Group sessions!\nYou will be added to the Google Calendar event series\, and will be registered for the full Equity Support Group series of events – drop into any session! You only need to RSVP once.\n\n\nQuestions? You can reach us at education@sfpirg.ca for more information!\n\nFull List of Equity Support Group Dates:\n\nSeptember 8\nSeptember 22\nOctober 6\nOctober 20\nNovember 3\nNovember 17\nDecember 1
URL:https://sfpirg.ca/event/equity-support-group-for-tas-and-tms-2020-09-22/
LOCATION:Online
CATEGORIES:SFPIRG Event
ATTACH;FMTTYPE=image/jpeg:https://sfpirg.ca/wp-content/uploads/2020/08/Equity-Support-Group-IG-e1598033718590.jpg
ORGANIZER;CN="SFPIRG":MAILTO:info@sfpirg.ca
END:VEVENT
BEGIN:VEVENT
DTSTART;TZID=America/Vancouver:20200928T120000
DTEND;TZID=America/Vancouver:20201008T160000
DTSTAMP:20260424T061418
CREATED:20180510T221959Z
LAST-MODIFIED:20200910T225215Z
UID:2186-1601294400-1602172800@sfpirg.ca
SUMMARY:Fee Refunds - Fall 2020
DESCRIPTION:SFPIRG is a student-funded non-profit organization\, autonomous from both the University and the Student Society. We receive $3 each semester from each full time student and $1.50 from each part time student. Therefore\, after paying their student fees\, all students are members of SFPIRG and can use the resources available through our centre. Non-students can also become associate members of SFPIRG and get involved with us. \nWe realize that not everyone shares SFPIRG’s values\, so each semester we offer students the ability to revoke their membership. If you would like to opt-out\, bring your student card\, proof of payment & registration for the semester some time during the dates and times listed below please see the COVID-19 update below. Once you opt-out\, you are no longer a member of SFPIRG and will not be eligible to use the organization’s resources and services. \n*COVID-19 Update* Due to the COVID-19 pandemic\, fee refunds will be administered differently for the Fall 2020 semester only. To receive more information about opting out of your SFPIRG membership for the Fall 2020 semester\, please send an email to admin@sfpirg.ca between the dates and times listed below. \n\nOpt-Out start time: Monday\, September 28th – 12pm\nOpt-Out end time: Thursday\, October 8th – 4pm
URL:https://sfpirg.ca/event/fee-refunds-fall-2020/
LOCATION:8888 University Drive\, Burnaby\, BC\, V5A 1S6\, Canada
CATEGORIES:SFPIRG Event
ATTACH;FMTTYPE=image/jpeg:https://sfpirg.ca/wp-content/uploads/2017/08/SFPIRG-Event-e1611179193437.jpg
ORGANIZER;CN="SFPIRG":MAILTO:info@sfpirg.ca
END:VEVENT
BEGIN:VEVENT
DTSTART;TZID=America/Vancouver:20200929T130000
DTEND;TZID=America/Vancouver:20200929T150000
DTSTAMP:20260424T061418
CREATED:20200821T175225Z
LAST-MODIFIED:20200821T175225Z
UID:2369-1601384400-1601391600@sfpirg.ca
SUMMARY:Social Justice Homework Club - for Undergrad and Grad Students
DESCRIPTION:Attention all SFU undergrad and grad students! SFPIRG is here to support you! \nAre you dealing with racism\, sexism\, or other oppressive/problematic content in the course of your work and studies? Are you looking for support with how to respond to instances of oppressive/problematic content in your coursework\, or from your fellow students? Are you looking for community with folks who also care about social justice? You’re not alone! \nJoin SFPIRG for our Fall 2020 Social Justice Homework Club series – exclusively for SFU undergrad and grad students! The Social Justice Homework Club takes place biweekly on Tuesdays from 1-3pm\, starting on September 15th\, 2020. The last session will be on November 24th. \nDrop into any of the sessions to get support with: \n\nHow to respond to problematic things that come up in the course of your work\, or from your fellow students\nHow to apply equity / intersectionality / anti-oppression in the context of your research / studies / work\nProcessing how you’re doing\, handling what’s happening for you\nTracking down other resources\, supports\, etc.\n\nPlease note that these are group support sessions\, and so conversations may take place of a sensitive or challenging nature. In order to support a safer environment for all\, we ask participants to be respectful\, considerate\, and compassionate throughout all sessions. Participants who are harassing\, discriminating against\, or deliberately harming others will be removed from the room. \nWe look forward to connecting with you this Fall! \nHow to attend:\n\nRSVP using the form below at least 1-hour prior to any Social Justice Homework Club session. Please register using the full name and email you will be signing into the Google Meet session with\, putting this information into the “Send RSVP confirmation to” fields.\n\nPlease note: if you register less than 1-hour prior to a session\, we cannot guarantee that you will receive the event link for that session.\n\n\nParticipants will be added to the event series within the 1-hour prior to each session. If you do not receive an invitation\, please be sure to check your spam folder.\n\nYou will receive a Google Calendar invitation\, with a Google Meet link included. This link will work for all Social Justice Homework Club sessions!\nYou will be added to the Google Calendar event series\, and will be registered for the full Social Justice Homework Club series of events – drop into any session! You only need to RSVP once.\n\n\nQuestions? You can reach us at education@sfpirg.ca for more information!\n\nFull List of Dates:\n\nSeptember 15\nSeptember 29\nOctober 13\nOctober 27\nNovember 10\nNovember 24
URL:https://sfpirg.ca/event/social-justice-homework-club-fall2020-2020-09-29/
LOCATION:Online
CATEGORIES:SFPIRG Event
ATTACH;FMTTYPE=image/jpeg:https://sfpirg.ca/wp-content/uploads/2020/08/Social-Justice-Homework-Club-IG-e1598033738608.jpg
ORGANIZER;CN="SFPIRG":MAILTO:info@sfpirg.ca
END:VEVENT
BEGIN:VEVENT
DTSTART;TZID=America/Vancouver:20200930T153000
DTEND;TZID=America/Vancouver:20200930T173000
DTSTAMP:20260424T061418
CREATED:20200922T001838Z
LAST-MODIFIED:20201023T185113Z
UID:2206-1601479800-1601487000@sfpirg.ca
SUMMARY:All-Student Society Orientation Session
DESCRIPTION:RSVP: https://www.eventbrite.ca/e/all-student-society-orientation-session-tickets-121802411291 \nAttention all SFU students! Did you know that you’re a member of several student societies on campus? These student societies are made up of students like you\, and are here to serve\, support\, and engage you! Join all SIX of SFU’s student societies for the first-ever All-Student Society Orientation session – brought to you virtually! \nJoin us on September 30th from 3:30-5:30pm to learn more about each of the student societies and what they offer to you\, and how you can get involved in student governance on campus! The orientation session will include a 10-minute presentation from each society\, followed by a Q&A session! \nAll undergrad students are members of the Simon Fraser Student Society (SFSS)\, representing the interests of and advocating for all undergrad students! \nAll grad students are members of the Graduate Student Society at SFU (GSS)\, representing the interests of and advocating for all grad students! \nAnd ALL students\, both undergrad and grad\, are members of the Simon Fraser Public Interest Research Group (SFPIRG)\, Embark Sustainability Society\, CJSF 90.1FM\, and The Peak Publication Society! These societies: \n\nEngage students and community in social & environmental justice\nEngage students in change making and inspire sustainability leadership\nEngage students in radio programming that is diverse\, independent\, and yours!\nProvide a platform for students to get involved with journalism at SFU and voice their views to the entire student body\n\nRegister using the Eventbrite link to get access to the All-Student Society Orientation Zoom session! Space is limited\, so register early! \nRSVP: https://www.eventbrite.ca/e/all-student-society-orientation-session-tickets-121802411291 \nIf you can’t attend\, don’t worry! The session will be recorded\, so you can still get all the information by watching the recording afterwards. You can also participate by sending questions for any of the societies in advance by emailing communications@sfpirg.ca. \nLearn more about the student societies\, and some of our campus constituency groups\, by checking out the Navigating SFU’s Student Socities Brochure: https://sfpirg.ca/wp-content/uploads/2020/09/student-societies-brochure-2020-v5.pdf \nWelcome (back) to SFU – we’re excited to have you join us! \n\nSFSS\nGSS\nSFPIRG\nEmbark\nCJSF\nThe Peak
URL:https://sfpirg.ca/event/all-student-society-orientation-session/
LOCATION:Online
CATEGORIES:SFPIRG Event
ATTACH;FMTTYPE=image/jpeg:https://sfpirg.ca/wp-content/uploads/2017/08/SFPIRG-Event-e1611179193437.jpg
ORGANIZER;CN="SFPIRG":MAILTO:info@sfpirg.ca
END:VEVENT
END:VCALENDAR