BEGIN:VCALENDAR
VERSION:2.0
PRODID:-//SFPIRG - ECPv6.15.20//NONSGML v1.0//EN
CALSCALE:GREGORIAN
METHOD:PUBLISH
X-WR-CALNAME:SFPIRG
X-ORIGINAL-URL:https://sfpirg.ca
X-WR-CALDESC:Events for SFPIRG
REFRESH-INTERVAL;VALUE=DURATION:PT1H
X-Robots-Tag:noindex
X-PUBLISHED-TTL:PT1H
BEGIN:VTIMEZONE
TZID:America/Vancouver
BEGIN:DAYLIGHT
TZOFFSETFROM:-0800
TZOFFSETTO:-0700
TZNAME:PDT
DTSTART:20160313T100000
END:DAYLIGHT
BEGIN:STANDARD
TZOFFSETFROM:-0700
TZOFFSETTO:-0800
TZNAME:PST
DTSTART:20161106T090000
END:STANDARD
BEGIN:DAYLIGHT
TZOFFSETFROM:-0800
TZOFFSETTO:-0700
TZNAME:PDT
DTSTART:20170312T100000
END:DAYLIGHT
BEGIN:STANDARD
TZOFFSETFROM:-0700
TZOFFSETTO:-0800
TZNAME:PST
DTSTART:20171105T090000
END:STANDARD
BEGIN:DAYLIGHT
TZOFFSETFROM:-0800
TZOFFSETTO:-0700
TZNAME:PDT
DTSTART:20180311T100000
END:DAYLIGHT
BEGIN:STANDARD
TZOFFSETFROM:-0700
TZOFFSETTO:-0800
TZNAME:PST
DTSTART:20181104T090000
END:STANDARD
END:VTIMEZONE
BEGIN:VEVENT
DTSTART;TZID=America/Vancouver:20170812T103000
DTEND;TZID=America/Vancouver:20170812T173000
DTSTAMP:20260419T064304
CREATED:20170621T225920Z
LAST-MODIFIED:20170621T231151Z
UID:251-1502533800-1502559000@sfpirg.ca
SUMMARY:Fat Camp 2017
DESCRIPTION:Building Fat Resistance!\nBuilding Fat Capacity!\nBuilding Fat Community! \nREGISTRATION LINK: Coming soon!\n\nJoin Fat Panic! Vancouver\, SFPIRG and PeerNet for a day of dreaming\, scheming and organizing as we explore possible healing and resistance strategies that we can enact\, as individuals and with others. What can we create that will support fat people in our community to not only survive\, but heal and thrive? What actions can we take\, collectively and/or as individuals\, to push back against the forces of anti-fat evil? How can we gather and share resources – energy\, time and money – to support these efforts? \nPlease note that as part of the work of this day\, Fat Panic! will be seeking donations. We ask that folks with sufficient income\, who want to see more fat organizing and community building\, donate what you can; given our social reality\, these things can’t really happen without funds. We also ask that people who are struggling financially\, especially fat working class and poor people\, consider saving your resources to support your own well-being\, though we respect that people from working class and poor backgrounds often are the ones who contribute a disproportionate amount to grassroots community organizing. \nWe hope to obtain funds that will allow us to A) provide some form of honoraria to Fat Camp organizers who are not already being paid for their time\, and B) to build a fund that would be available to support one or more of the project ideas that come out of this day\, with priority going to ensuring that these projects have the necessary funds to ensure maximum accessibility. \nFurther event details to come! \nACCESSIBILITY INFO \nASL is being booked for this event. Please register by July 27th at noon to confirm your attendance. If no confirmations are received by July 27th at noon\, ASL interpretation will be cancelled. \nMore access info to be posted soon!
URL:https://sfpirg.ca/event/fat-camp-2017/
ATTACH;FMTTYPE=image/jpeg:https://sfpirg.ca/wp-content/uploads/2017/06/fat-camp-featured.jpg
ORGANIZER;CN="SFPIRG":MAILTO:info@sfpirg.ca
END:VEVENT
BEGIN:VEVENT
DTSTART;TZID=America/Vancouver:20170715T103000
DTEND;TZID=America/Vancouver:20170715T163000
DTSTAMP:20260419T064304
CREATED:20170612T234718Z
LAST-MODIFIED:20170621T225510Z
UID:66-1500114600-1500136200@sfpirg.ca
SUMMARY:Pinkwashing: Notes from Palestine
DESCRIPTION:What is pinkwashing? What does it have to do with Palestine? Let’s talk about it. \nThis workshop will introduce you to the basics of 100+ years of Palestinian struggle against European Imperialism\, Zionism and Israeli settler colonialism. \nWe will be screening a movie called Pinkwashing Exposed\, made by our friends in Duamish territories (also known as Seattle). After that\, there will be a chance to discuss how Palestinian queers in Palestine are resisting Israeli pinkwashing\, what’s happening here locally\, and what we can all do to end pinkwashing. \nASL interpretation is booked for this event. Please register by June 28th at noon to confirm if you need ASL. If no confirmations are received by June 28th at noon\, ASL interpretation will be cancelled. \nRegister:\nhttps://sfpirg.wufoo.eu/forms/q154mulu1tvyude/
URL:https://sfpirg.ca/event/pinkwashing-notes-from-palestine/
ORGANIZER;CN="SFPIRG":MAILTO:info@sfpirg.ca
END:VEVENT
END:VCALENDAR