BEGIN:VCALENDAR
VERSION:2.0
PRODID:-//SFPIRG - ECPv6.15.20//NONSGML v1.0//EN
CALSCALE:GREGORIAN
METHOD:PUBLISH
X-WR-CALNAME:SFPIRG
X-ORIGINAL-URL:https://sfpirg.ca
X-WR-CALDESC:Events for SFPIRG
REFRESH-INTERVAL;VALUE=DURATION:PT1H
X-Robots-Tag:noindex
X-PUBLISHED-TTL:PT1H
BEGIN:VTIMEZONE
TZID:America/Vancouver
BEGIN:DAYLIGHT
TZOFFSETFROM:-0800
TZOFFSETTO:-0700
TZNAME:PDT
DTSTART:20210314T100000
END:DAYLIGHT
BEGIN:STANDARD
TZOFFSETFROM:-0700
TZOFFSETTO:-0800
TZNAME:PST
DTSTART:20211107T090000
END:STANDARD
BEGIN:DAYLIGHT
TZOFFSETFROM:-0800
TZOFFSETTO:-0700
TZNAME:PDT
DTSTART:20220313T100000
END:DAYLIGHT
BEGIN:STANDARD
TZOFFSETFROM:-0700
TZOFFSETTO:-0800
TZNAME:PST
DTSTART:20221106T090000
END:STANDARD
BEGIN:DAYLIGHT
TZOFFSETFROM:-0800
TZOFFSETTO:-0700
TZNAME:PDT
DTSTART:20230312T100000
END:DAYLIGHT
BEGIN:STANDARD
TZOFFSETFROM:-0700
TZOFFSETTO:-0800
TZNAME:PST
DTSTART:20231105T090000
END:STANDARD
END:VTIMEZONE
BEGIN:VEVENT
DTSTART;TZID=America/Vancouver:20220512T080000
DTEND;TZID=America/Vancouver:20220512T170000
DTSTAMP:20260421T000037
CREATED:20220512T204322Z
LAST-MODIFIED:20220512T204322Z
UID:3158-1652342400-1652374800@sfpirg.ca
SUMMARY:More Than a Checkbox : Doing Better Data\, How Data Can Be Caring
DESCRIPTION:The SFU Graduate Student Society (GSS) and the Simon Fraser Public Interest Research Group (SFPIRG) are pleased to co-host this series on research ethics for graduate students across BC. During these three events\, researchers will share a diverse expertise on how we move beyond institutional research ethics to enacting real forms of consent\, accountability\, and care in how we do research. \nIn this event we will be talking about how a large amount of knowledge gathering occurs through surveys and data analysis. There are many ethical considerations that go into data collection through these methods\, but how do we do this better? Our guests will talk about their experiences in considering the impacts of race-based data and gender-based violence\, asking better questions\, and thinking about our analysis in more thoughtful and empowering ways. \nRegister here: https://forms.gle/NQXukHn6Cd6Sh6DW6 \nSpeakers: Dr. Emily Rosser plus one speaker TBA
URL:https://sfpirg.ca/event/more-than-a-checkbox-doing-better-data-how-data-can-be-caring/
CATEGORIES:SFPIRG Event
ATTACH;FMTTYPE=image/png:https://sfpirg.ca/wp-content/uploads/2022/05/SFPIRG-x-GSS-Ethics-series.png
END:VEVENT
END:VCALENDAR